BEGIN:VCALENDAR
VERSION:2.0
PRODID:-//Culbertson Hills - ECPv6.15.20//NONSGML v1.0//EN
CALSCALE:GREGORIAN
METHOD:PUBLISH
X-WR-CALNAME:Culbertson Hills
X-ORIGINAL-URL:https://www.culbertsonhills.com
X-WR-CALDESC:Events for Culbertson Hills
REFRESH-INTERVAL;VALUE=DURATION:PT1H
X-Robots-Tag:noindex
X-PUBLISHED-TTL:PT1H
BEGIN:VTIMEZONE
TZID:America/Toronto
BEGIN:DAYLIGHT
TZOFFSETFROM:-0500
TZOFFSETTO:-0400
TZNAME:EDT
DTSTART:20250309T070000
END:DAYLIGHT
BEGIN:STANDARD
TZOFFSETFROM:-0400
TZOFFSETTO:-0500
TZNAME:EST
DTSTART:20251102T060000
END:STANDARD
BEGIN:DAYLIGHT
TZOFFSETFROM:-0500
TZOFFSETTO:-0400
TZNAME:EDT
DTSTART:20260308T070000
END:DAYLIGHT
BEGIN:STANDARD
TZOFFSETFROM:-0400
TZOFFSETTO:-0500
TZNAME:EST
DTSTART:20261101T060000
END:STANDARD
BEGIN:DAYLIGHT
TZOFFSETFROM:-0500
TZOFFSETTO:-0400
TZNAME:EDT
DTSTART:20270314T070000
END:DAYLIGHT
BEGIN:STANDARD
TZOFFSETFROM:-0400
TZOFFSETTO:-0500
TZNAME:EST
DTSTART:20271107T060000
END:STANDARD
END:VTIMEZONE
BEGIN:VEVENT
DTSTART;TZID=America/Toronto:20260704T080000
DTEND;TZID=America/Toronto:20260704T140000
DTSTAMP:20260425T192107
CREATED:20200220T182830Z
LAST-MODIFIED:20260125T174236Z
UID:11423-1783152000-1783173600@www.culbertsonhills.com
SUMMARY:4th of July Red\, White\, and Blue Tournament
DESCRIPTION:8AM Shotgun Start \nOpen to all players with a valid handicap\, bring a foursome or sign up individually. \nCost:  \nMembers With Cart Pass: $20 \nMembers Without Cart Pass: $37 \nNon-Members:$60 \nFormat: \n\nYou choose six holes to play from the red tees\, six holes from the white tees\, and six holes from the blue tees\nTake 60% handicap\nBest two balls of the foursome determine the winner\n\nThis is one of our most popular events of the summer!
URL:https://www.culbertsonhills.com/event/4th-of-july-red-white-and-blue/
LOCATION:Culbertson Hills Golf Resort
END:VEVENT
END:VCALENDAR