BEGIN:VCALENDAR
VERSION:2.0
PRODID:-//Culbertson Hills - ECPv6.15.20//NONSGML v1.0//EN
CALSCALE:GREGORIAN
METHOD:PUBLISH
X-ORIGINAL-URL:https://www.culbertsonhills.com
X-WR-CALDESC:Events for Culbertson Hills
REFRESH-INTERVAL;VALUE=DURATION:PT1H
X-Robots-Tag:noindex
X-PUBLISHED-TTL:PT1H
BEGIN:VTIMEZONE
TZID:America/Toronto
BEGIN:DAYLIGHT
TZOFFSETFROM:-0500
TZOFFSETTO:-0400
TZNAME:EDT
DTSTART:20250309T070000
END:DAYLIGHT
BEGIN:STANDARD
TZOFFSETFROM:-0400
TZOFFSETTO:-0500
TZNAME:EST
DTSTART:20251102T060000
END:STANDARD
BEGIN:DAYLIGHT
TZOFFSETFROM:-0500
TZOFFSETTO:-0400
TZNAME:EDT
DTSTART:20260308T070000
END:DAYLIGHT
BEGIN:STANDARD
TZOFFSETFROM:-0400
TZOFFSETTO:-0500
TZNAME:EST
DTSTART:20261101T060000
END:STANDARD
BEGIN:DAYLIGHT
TZOFFSETFROM:-0500
TZOFFSETTO:-0400
TZNAME:EDT
DTSTART:20270314T070000
END:DAYLIGHT
BEGIN:STANDARD
TZOFFSETFROM:-0400
TZOFFSETTO:-0500
TZNAME:EST
DTSTART:20271107T060000
END:STANDARD
END:VTIMEZONE
BEGIN:VEVENT
DTSTART;TZID=America/Toronto:20260820T130000
DTEND;TZID=America/Toronto:20260820T130000
DTSTAMP:20260425T225115
CREATED:20190220T135214Z
LAST-MODIFIED:20260126T165246Z
UID:5881-1787230800-1787230800@www.culbertsonhills.com
SUMMARY:Edinboro Hotel Arts and Music Festival Golf Outing
DESCRIPTION:The annual Edinboro Hotel Bar Golf Outing to benefit the Downtown Edinboro Art and Music Festival. \n1:00PM Shotgun Start \nTee times will be available in the morning before the event.
URL:https://www.culbertsonhills.com/event/edinboro-hotel-music-arts/
END:VEVENT
END:VCALENDAR