BEGIN:VCALENDAR
VERSION:2.0
PRODID:-//Culbertson Hills - ECPv6.15.20//NONSGML v1.0//EN
CALSCALE:GREGORIAN
METHOD:PUBLISH
X-WR-CALNAME:Culbertson Hills
X-ORIGINAL-URL:https://www.culbertsonhills.com
X-WR-CALDESC:Events for Culbertson Hills
REFRESH-INTERVAL;VALUE=DURATION:PT1H
X-Robots-Tag:noindex
X-PUBLISHED-TTL:PT1H
BEGIN:VTIMEZONE
TZID:America/Toronto
BEGIN:DAYLIGHT
TZOFFSETFROM:-0500
TZOFFSETTO:-0400
TZNAME:EDT
DTSTART:20250309T070000
END:DAYLIGHT
BEGIN:STANDARD
TZOFFSETFROM:-0400
TZOFFSETTO:-0500
TZNAME:EST
DTSTART:20251102T060000
END:STANDARD
BEGIN:DAYLIGHT
TZOFFSETFROM:-0500
TZOFFSETTO:-0400
TZNAME:EDT
DTSTART:20260308T070000
END:DAYLIGHT
BEGIN:STANDARD
TZOFFSETFROM:-0400
TZOFFSETTO:-0500
TZNAME:EST
DTSTART:20261101T060000
END:STANDARD
BEGIN:DAYLIGHT
TZOFFSETFROM:-0500
TZOFFSETTO:-0400
TZNAME:EDT
DTSTART:20270314T070000
END:DAYLIGHT
BEGIN:STANDARD
TZOFFSETFROM:-0400
TZOFFSETTO:-0500
TZNAME:EST
DTSTART:20271107T060000
END:STANDARD
END:VTIMEZONE
BEGIN:VEVENT
DTSTART;TZID=America/Toronto:20260905T130000
DTEND;TZID=America/Toronto:20260905T173000
DTSTAMP:20260425T230024
CREATED:20250223T125409Z
LAST-MODIFIED:20260130T213811Z
UID:22495-1788613200-1788629400@www.culbertsonhills.com
SUMMARY:Penn West Edinboro Swim Team
DESCRIPTION:
URL:https://www.culbertsonhills.com/event/penn-west-edinboro-swim-team/
END:VEVENT
BEGIN:VEVENT
DTSTART;TZID=America/Toronto:20260905T130000
DTEND;TZID=America/Toronto:20260905T180000
DTSTAMP:20260425T230024
CREATED:20210510T150023Z
LAST-MODIFIED:20260125T173830Z
UID:11437-1788613200-1788631200@www.culbertsonhills.com
SUMMARY:Fred Caro Memorial Golf Outing
DESCRIPTION:Longtime Edinboro University wrestling coach Fred Caro is honored annually by his family as they host a golf tournament every year to raise money for the Fred Caro Memorial Scholarship Fund\, which benefits both Edinboro University and Lock Haven University Athletics. \n1:00PM Shotgun \nTee times will be available in the morning before the event.
URL:https://www.culbertsonhills.com/event/fred-caro-memorial-golf-outing/
LOCATION:Culbertson Hills Golf Resort
END:VEVENT
END:VCALENDAR