BEGIN:VCALENDAR
VERSION:2.0
PRODID:-//Culbertson Hills - ECPv6.15.20//NONSGML v1.0//EN
CALSCALE:GREGORIAN
METHOD:PUBLISH
X-WR-CALNAME:Culbertson Hills
X-ORIGINAL-URL:https://www.culbertsonhills.com
X-WR-CALDESC:Events for Culbertson Hills
REFRESH-INTERVAL;VALUE=DURATION:PT1H
X-Robots-Tag:noindex
X-PUBLISHED-TTL:PT1H
BEGIN:VTIMEZONE
TZID:America/Toronto
BEGIN:DAYLIGHT
TZOFFSETFROM:-0500
TZOFFSETTO:-0400
TZNAME:EDT
DTSTART:20220313T070000
END:DAYLIGHT
BEGIN:STANDARD
TZOFFSETFROM:-0400
TZOFFSETTO:-0500
TZNAME:EST
DTSTART:20221106T060000
END:STANDARD
BEGIN:DAYLIGHT
TZOFFSETFROM:-0500
TZOFFSETTO:-0400
TZNAME:EDT
DTSTART:20230312T070000
END:DAYLIGHT
BEGIN:STANDARD
TZOFFSETFROM:-0400
TZOFFSETTO:-0500
TZNAME:EST
DTSTART:20231105T060000
END:STANDARD
BEGIN:DAYLIGHT
TZOFFSETFROM:-0500
TZOFFSETTO:-0400
TZNAME:EDT
DTSTART:20240310T070000
END:DAYLIGHT
BEGIN:STANDARD
TZOFFSETFROM:-0400
TZOFFSETTO:-0500
TZNAME:EST
DTSTART:20241103T060000
END:STANDARD
BEGIN:DAYLIGHT
TZOFFSETFROM:-0500
TZOFFSETTO:-0400
TZNAME:EDT
DTSTART:20250309T070000
END:DAYLIGHT
BEGIN:STANDARD
TZOFFSETFROM:-0400
TZOFFSETTO:-0500
TZNAME:EST
DTSTART:20251102T060000
END:STANDARD
BEGIN:DAYLIGHT
TZOFFSETFROM:-0500
TZOFFSETTO:-0400
TZNAME:EDT
DTSTART:20260308T070000
END:DAYLIGHT
BEGIN:STANDARD
TZOFFSETFROM:-0400
TZOFFSETTO:-0500
TZNAME:EST
DTSTART:20261101T060000
END:STANDARD
BEGIN:DAYLIGHT
TZOFFSETFROM:-0500
TZOFFSETTO:-0400
TZNAME:EDT
DTSTART:20270314T070000
END:DAYLIGHT
BEGIN:STANDARD
TZOFFSETFROM:-0400
TZOFFSETTO:-0500
TZNAME:EST
DTSTART:20271107T060000
END:STANDARD
END:VTIMEZONE
BEGIN:VEVENT
DTSTART;TZID=America/Toronto:20260626T080000
DTEND;TZID=America/Toronto:20260628T150000
DTSTAMP:20260426T000610
CREATED:20200220T165438Z
LAST-MODIFIED:20260130T212437Z
UID:11391-1782460800-1782658800@www.culbertsonhills.com
SUMMARY:54TH Annual Gillespie Golf Outing
DESCRIPTION:This year marks the 54th anniversary of the Gillespie Golf Outing from west Cleveland\, Ohio. Postponed in 2020 due to Covid 19\, this event was started in 1970 by Kevin Gillespie\, and has been ongoing with the help of several friends & family members. \nTee times available after 3:00PM on Friday 6/25 and Saturday 6/26 and after 1:00PM on Sunday 6/27. Call the pro shop at 814-734-3114 for availability.
URL:https://www.culbertsonhills.com/event/gillespie-golf-outing-2/
LOCATION:Culbertson Hills Golf Resort
END:VEVENT
BEGIN:VEVENT
DTSTART;TZID=America/Toronto:20260621T080000
DTEND;TZID=America/Toronto:20260621T140000
DTSTAMP:20260426T000610
CREATED:20190307T152621Z
LAST-MODIFIED:20260130T220558Z
UID:6094-1782028800-1782050400@www.culbertsonhills.com
SUMMARY:Father's Day
DESCRIPTION:
URL:https://www.culbertsonhills.com/event/fathers-day/
END:VEVENT
BEGIN:VEVENT
DTSTART;TZID=America/Toronto:20260620T130000
DTEND;TZID=America/Toronto:20260620T180000
DTSTAMP:20260426T000610
CREATED:20190219T163054Z
LAST-MODIFIED:20260130T212708Z
UID:5812-1781960400-1781978400@www.culbertsonhills.com
SUMMARY:AH Tournament
DESCRIPTION:Shotgun start at 1PM \n*Tee Times available for outside play before 8AM and after 6PM.
URL:https://www.culbertsonhills.com/event/a-h-tournament/
END:VEVENT
BEGIN:VEVENT
DTSTART;TZID=America/Toronto:20260612T130000
DTEND;TZID=America/Toronto:20260612T170000
DTSTAMP:20260426T000610
CREATED:20260311T152615Z
LAST-MODIFIED:20260311T153536Z
UID:24422-1781269200-1781283600@www.culbertsonhills.com
SUMMARY:Penn West Edinboro Women's Basketball
DESCRIPTION:
URL:https://www.culbertsonhills.com/event/penn-west-edinboro-womens-basketball/
END:VEVENT
BEGIN:VEVENT
DTSTART;TZID=America/Toronto:20260605T080000
DTEND;TZID=America/Toronto:20260607T170000
DTSTAMP:20260426T000610
CREATED:20260126T164536Z
LAST-MODIFIED:20260126T164536Z
UID:24393-1780646400-1780851600@www.culbertsonhills.com
SUMMARY:Merlino Golf Group
DESCRIPTION:
URL:https://www.culbertsonhills.com/event/merlino-golf-group/
END:VEVENT
BEGIN:VEVENT
DTSTART;TZID=America/Toronto:20260502T110000
DTEND;TZID=America/Toronto:20260502T170000
DTSTAMP:20260426T000610
CREATED:20190306T183536Z
LAST-MODIFIED:20260130T215929Z
UID:6012-1777719600-1777741200@www.culbertsonhills.com
SUMMARY:Barstool Open
DESCRIPTION:
URL:https://www.culbertsonhills.com/event/barstool-open/
END:VEVENT
BEGIN:VEVENT
DTSTART;TZID=America/Toronto:20260411T170000
DTEND;TZID=America/Toronto:20260411T223000
DTSTAMP:20260426T000610
CREATED:20250201T181229Z
LAST-MODIFIED:20260130T213623Z
UID:22488-1775926800-1775946600@www.culbertsonhills.com
SUMMARY:Curly Halmi Game Dinner
DESCRIPTION:
URL:https://www.culbertsonhills.com/event/curly-halmi-game-dinner-2/
END:VEVENT
BEGIN:VEVENT
DTSTART;TZID=America/Toronto:20251018T080000
DTEND;TZID=America/Toronto:20251018T170000
DTSTAMP:20260426T000610
CREATED:20240907T104625Z
LAST-MODIFIED:20250223T135610Z
UID:22418-1760774400-1760806800@www.culbertsonhills.com
SUMMARY:Chili Open
DESCRIPTION:Hosted by renowned chili chef Jason Gibbs\, the Chili Open benefits the Northwestern High School Marching Band.  Noon shotgun start.  For more information contact Jason at 814-449-9311
URL:https://www.culbertsonhills.com/event/chili-open/
END:VEVENT
BEGIN:VEVENT
DTSTART;VALUE=DATE:20251010
DTEND;VALUE=DATE:20251011
DTSTAMP:20260426T000610
CREATED:20250625T165152Z
LAST-MODIFIED:20250625T165152Z
UID:22636-1760054400-1760140799@www.culbertsonhills.com
SUMMARY:Edinboro Alumni and Friends
DESCRIPTION:
URL:https://www.culbertsonhills.com/event/edinboro-alumni-and-friends/
END:VEVENT
BEGIN:VEVENT
DTSTART;VALUE=DATE:20250927
DTEND;VALUE=DATE:20250928
DTSTAMP:20260426T000610
CREATED:20250529T185331Z
LAST-MODIFIED:20250529T185331Z
UID:22584-1758931200-1759017599@www.culbertsonhills.com
SUMMARY:Edinboro Wrestling
DESCRIPTION:
URL:https://www.culbertsonhills.com/event/edinboro-wrestling/
END:VEVENT
BEGIN:VEVENT
DTSTART;VALUE=DATE:20250906
DTEND;VALUE=DATE:20250907
DTSTAMP:20260426T000610
CREATED:20250529T185306Z
LAST-MODIFIED:20250529T185306Z
UID:22581-1757116800-1757203199@www.culbertsonhills.com
SUMMARY:Edinboro Swim team (make-up from 5/24)
DESCRIPTION:
URL:https://www.culbertsonhills.com/event/edinboro-swim-team-make-up-from-5-24/
END:VEVENT
BEGIN:VEVENT
DTSTART;TZID=America/Toronto:20250823T123000
DTEND;TZID=America/Toronto:20250824T133000
DTSTAMP:20260426T000610
CREATED:20200301T155246Z
LAST-MODIFIED:20250223T205246Z
UID:11979-1755952200-1756042200@www.culbertsonhills.com
SUMMARY:Culbertson Hills Club Championship
DESCRIPTION:
URL:https://www.culbertsonhills.com/event/club-championship-3/
END:VEVENT
BEGIN:VEVENT
DTSTART;TZID=America/Toronto:20250720T083000
DTEND;TZID=America/Toronto:20250720T143000
DTSTAMP:20260426T000610
CREATED:20210517T185904Z
LAST-MODIFIED:20250223T131213Z
UID:16072-1753000200-1753021800@www.culbertsonhills.com
SUMMARY:Wildcat Open
DESCRIPTION:8:30AM Shotgun Start
URL:https://www.culbertsonhills.com/event/wildcat-open-3/
END:VEVENT
BEGIN:VEVENT
DTSTART;TZID=America/Toronto:20250628T130000
DTEND;TZID=America/Toronto:20250628T180000
DTSTAMP:20260426T000610
CREATED:20240129T165513Z
LAST-MODIFIED:20250609T190419Z
UID:22123-1751115600-1751133600@www.culbertsonhills.com
SUMMARY:Corey Murdzak Memorial Golf Tournament
DESCRIPTION:1PM Shotgun Start \nTee times will be available in the morning before the event.
URL:https://www.culbertsonhills.com/event/corey-murdzak-memorial-golf-tournament/
END:VEVENT
BEGIN:VEVENT
DTSTART;VALUE=DATE:20250627
DTEND;VALUE=DATE:20250630
DTSTAMP:20260426T000610
CREATED:20250529T185216Z
LAST-MODIFIED:20250529T185216Z
UID:22578-1750982400-1751241599@www.culbertsonhills.com
SUMMARY:Papp Group
DESCRIPTION:
URL:https://www.culbertsonhills.com/event/papp-group/
END:VEVENT
BEGIN:VEVENT
DTSTART;TZID=America/Toronto:20250613T130000
DTEND;TZID=America/Toronto:20250613T130000
DTSTAMP:20260426T000610
CREATED:20250609T163023Z
LAST-MODIFIED:20250609T190406Z
UID:22603-1749819600-1749819600@www.culbertsonhills.com
SUMMARY:Women's Basketball Golf Outing
DESCRIPTION:Tee times will be available in the morning before the event.
URL:https://www.culbertsonhills.com/event/womens-basketball-golf-outing/
END:VEVENT
BEGIN:VEVENT
DTSTART;TZID=America/Toronto:20250607T073000
DTEND;TZID=America/Toronto:20250609T170000
DTSTAMP:20260426T000610
CREATED:20220307T170305Z
LAST-MODIFIED:20250223T210346Z
UID:19064-1749281400-1749488400@www.culbertsonhills.com
SUMMARY:Spanbauer Golf Group
DESCRIPTION:
URL:https://www.culbertsonhills.com/event/spanbauer-golf-group-2/
END:VEVENT
BEGIN:VEVENT
DTSTART;TZID=America/Toronto:20250606T083000
DTEND;TZID=America/Toronto:20250608T103000
DTSTAMP:20260426T000610
CREATED:20200220T161741Z
LAST-MODIFIED:20250223T133758Z
UID:11333-1749198600-1749378600@www.culbertsonhills.com
SUMMARY:Merlino Golf Outing
DESCRIPTION:Tee times available throughout the day…please call 734-3114 (proshop) for details
URL:https://www.culbertsonhills.com/event/merlino-golf-outing-2/
LOCATION:Culbertson Hills Golf Resort
END:VEVENT
BEGIN:VEVENT
DTSTART;TZID=America/Toronto:20241125T173000
DTEND;TZID=America/Toronto:20241214T220000
DTSTAMP:20260426T000610
CREATED:20241125T135706Z
LAST-MODIFIED:20241125T135906Z
UID:22448-1732555800-1734213600@www.culbertsonhills.com
SUMMARY:A-H Club Annual Christmas Party @ Culbertson Hills
DESCRIPTION:Merry Christmas!  Join us December 14th at 6:00 for one of 3 annual fundraisers for the AH Club of Edinboro Christmas Party.  The AH Club has spent almost $300\,000 over the past 4+ decades to help children in the General Mclane School District obtain winter clothing\, boots\, gloves\, and accessories.
URL:https://www.culbertsonhills.com/event/a-h-club-annual-christmas-party-culbertson-hills/
END:VEVENT
BEGIN:VEVENT
DTSTART;TZID=America/Toronto:20240811T130000
DTEND;TZID=America/Toronto:20240811T180000
DTSTAMP:20260426T000610
CREATED:20240302T135604Z
LAST-MODIFIED:20240530T001732Z
UID:22152-1723381200-1723399200@www.culbertsonhills.com
SUMMARY:Be Like Tommy Golf Tournament
DESCRIPTION:1:00PM Shotgun Start
URL:https://www.culbertsonhills.com/event/be-like-tommy/
END:VEVENT
BEGIN:VEVENT
DTSTART;TZID=America/Toronto:20240809T130000
DTEND;TZID=America/Toronto:20240809T180000
DTSTAMP:20260426T000610
CREATED:20230314T173724Z
LAST-MODIFIED:20240530T001506Z
UID:21563-1723208400-1723226400@www.culbertsonhills.com
SUMMARY:Maveric Hockey Golf Tournament
DESCRIPTION:For more information contact Julie D. @ 814-392-3475
URL:https://www.culbertsonhills.com/event/maveric-hockey-golf-tournament/
END:VEVENT
BEGIN:VEVENT
DTSTART;TZID=America/Toronto:20240804T100000
DTEND;TZID=America/Toronto:20240804T150000
DTSTAMP:20260426T000610
CREATED:20240530T001411Z
LAST-MODIFIED:20240530T001411Z
UID:22287-1722765600-1722783600@www.culbertsonhills.com
SUMMARY:Hoyt Couples
DESCRIPTION:10:00AM Shotgun Start
URL:https://www.culbertsonhills.com/event/hoyt-couples/
END:VEVENT
BEGIN:VEVENT
DTSTART;TZID=America/Toronto:20240724T080000
DTEND;TZID=America/Toronto:20240726T140000
DTSTAMP:20260426T000610
CREATED:20240530T000854Z
LAST-MODIFIED:20240530T000854Z
UID:22280-1721808000-1722002400@www.culbertsonhills.com
SUMMARY:Scibilia Outing
DESCRIPTION:
URL:https://www.culbertsonhills.com/event/scibilia-outing/
END:VEVENT
BEGIN:VEVENT
DTSTART;TZID=America/Toronto:20240712T090000
DTEND;TZID=America/Toronto:20240712T140000
DTSTAMP:20260426T000610
CREATED:20240130T132157Z
LAST-MODIFIED:20240529T235832Z
UID:22126-1720774800-1720792800@www.culbertsonhills.com
SUMMARY:Mercyhust Prep Football Booster Golf Scramble
DESCRIPTION:9:00AM Shotgun Start
URL:https://www.culbertsonhills.com/event/mercyhust-prep-football-booster-golf-scramble/
END:VEVENT
BEGIN:VEVENT
DTSTART;TZID=America/Toronto:20240705T140000
DTEND;TZID=America/Toronto:20240706T170000
DTSTAMP:20260426T000610
CREATED:20230614T215511Z
LAST-MODIFIED:20240529T235628Z
UID:21654-1720188000-1720285200@www.culbertsonhills.com
SUMMARY:2024 Member/ Guest Tournament
DESCRIPTION:2:00PM Shotgun Start Friday \n9:30AM Shotgun Start Saturday
URL:https://www.culbertsonhills.com/event/2023-member-guest/
END:VEVENT
BEGIN:VEVENT
DTSTART;TZID=America/Toronto:20240705T090000
DTEND;TZID=America/Toronto:20240707T100000
DTSTAMP:20260426T000610
CREATED:20220307T194356Z
LAST-MODIFIED:20240529T235411Z
UID:19095-1720170000-1720346400@www.culbertsonhills.com
SUMMARY:Papp Open
DESCRIPTION:
URL:https://www.culbertsonhills.com/event/papp-open-3/
END:VEVENT
BEGIN:VEVENT
DTSTART;TZID=America/Toronto:20240406T080000
DTEND;TZID=America/Toronto:20240406T170000
DTSTAMP:20260426T000610
CREATED:20190306T182742Z
LAST-MODIFIED:20240209T114010Z
UID:6007-1712390400-1712422800@www.culbertsonhills.com
SUMMARY:Curly Halmi Game Dinner
DESCRIPTION:
URL:https://www.culbertsonhills.com/event/curley-halmi-game-dinner/
END:VEVENT
BEGIN:VEVENT
DTSTART;TZID=America/Toronto:20230909T130000
DTEND;TZID=America/Toronto:20230909T130000
DTSTAMP:20260426T000610
CREATED:20200220T190203Z
LAST-MODIFIED:20230719T120152Z
UID:11445-1694264400-1694264400@www.culbertsonhills.com
SUMMARY:Edinboro University Wrestling Golf Outing
DESCRIPTION:The Edinboro University Wrestling Team annual golf outing benefiting the ERTC (Edinboro Regional Training Center) is held every September at Culbertson Hills
URL:https://www.culbertsonhills.com/event/edinboro-university-wrestling-golf-outing/
LOCATION:Culbertson Hills Golf Resort
ORGANIZER;CN="Matt Hill":MAILTO:mhill@edinboro.edu
END:VEVENT
BEGIN:VEVENT
DTSTART;TZID=America/Toronto:20230908T173000
DTEND;TZID=America/Toronto:20230908T203000
DTSTAMP:20260426T000610
CREATED:20220307T164610Z
LAST-MODIFIED:20230321T160202Z
UID:19032-1694194200-1694205000@www.culbertsonhills.com
SUMMARY:Couples
DESCRIPTION:
URL:https://www.culbertsonhills.com/event/couples-3/
END:VEVENT
BEGIN:VEVENT
DTSTART;TZID=America/Toronto:20230829T170000
DTEND;TZID=America/Toronto:20230829T210000
DTSTAMP:20260426T000610
CREATED:20190220T142415Z
LAST-MODIFIED:20230314T160644Z
UID:5928-1693328400-1693342800@www.culbertsonhills.com
SUMMARY:Mens League 5 P.M.
DESCRIPTION:
URL:https://www.culbertsonhills.com/event/mens-league-34/
END:VEVENT
END:VCALENDAR