BEGIN:VCALENDAR
VERSION:2.0
PRODID:-//Culbertson Hills - ECPv6.15.20//NONSGML v1.0//EN
CALSCALE:GREGORIAN
METHOD:PUBLISH
X-WR-CALNAME:Culbertson Hills
X-ORIGINAL-URL:https://www.culbertsonhills.com
X-WR-CALDESC:Events for Culbertson Hills
REFRESH-INTERVAL;VALUE=DURATION:PT1H
X-Robots-Tag:noindex
X-PUBLISHED-TTL:PT1H
BEGIN:VTIMEZONE
TZID:America/Toronto
BEGIN:DAYLIGHT
TZOFFSETFROM:-0500
TZOFFSETTO:-0400
TZNAME:EDT
DTSTART:20210314T070000
END:DAYLIGHT
BEGIN:STANDARD
TZOFFSETFROM:-0400
TZOFFSETTO:-0500
TZNAME:EST
DTSTART:20211107T060000
END:STANDARD
BEGIN:DAYLIGHT
TZOFFSETFROM:-0500
TZOFFSETTO:-0400
TZNAME:EDT
DTSTART:20220313T070000
END:DAYLIGHT
BEGIN:STANDARD
TZOFFSETFROM:-0400
TZOFFSETTO:-0500
TZNAME:EST
DTSTART:20221106T060000
END:STANDARD
BEGIN:DAYLIGHT
TZOFFSETFROM:-0500
TZOFFSETTO:-0400
TZNAME:EDT
DTSTART:20230312T070000
END:DAYLIGHT
BEGIN:STANDARD
TZOFFSETFROM:-0400
TZOFFSETTO:-0500
TZNAME:EST
DTSTART:20231105T060000
END:STANDARD
BEGIN:DAYLIGHT
TZOFFSETFROM:-0500
TZOFFSETTO:-0400
TZNAME:EDT
DTSTART:20240310T070000
END:DAYLIGHT
BEGIN:STANDARD
TZOFFSETFROM:-0400
TZOFFSETTO:-0500
TZNAME:EST
DTSTART:20241103T060000
END:STANDARD
BEGIN:DAYLIGHT
TZOFFSETFROM:-0500
TZOFFSETTO:-0400
TZNAME:EDT
DTSTART:20250309T070000
END:DAYLIGHT
BEGIN:STANDARD
TZOFFSETFROM:-0400
TZOFFSETTO:-0500
TZNAME:EST
DTSTART:20251102T060000
END:STANDARD
END:VTIMEZONE
BEGIN:VEVENT
DTSTART;TZID=America/Toronto:20240406T080000
DTEND;TZID=America/Toronto:20240406T170000
DTSTAMP:20260425T221103
CREATED:20190306T182742Z
LAST-MODIFIED:20240209T114010Z
UID:6007-1712390400-1712422800@www.culbertsonhills.com
SUMMARY:Curly Halmi Game Dinner
DESCRIPTION:
URL:https://www.culbertsonhills.com/event/curley-halmi-game-dinner/
END:VEVENT
BEGIN:VEVENT
DTSTART;TZID=America/Toronto:20230909T130000
DTEND;TZID=America/Toronto:20230909T130000
DTSTAMP:20260425T221103
CREATED:20200220T190203Z
LAST-MODIFIED:20230719T120152Z
UID:11445-1694264400-1694264400@www.culbertsonhills.com
SUMMARY:Edinboro University Wrestling Golf Outing
DESCRIPTION:The Edinboro University Wrestling Team annual golf outing benefiting the ERTC (Edinboro Regional Training Center) is held every September at Culbertson Hills
URL:https://www.culbertsonhills.com/event/edinboro-university-wrestling-golf-outing/
LOCATION:Culbertson Hills Golf Resort
ORGANIZER;CN="Matt Hill":MAILTO:mhill@edinboro.edu
END:VEVENT
BEGIN:VEVENT
DTSTART;TZID=America/Toronto:20230908T173000
DTEND;TZID=America/Toronto:20230908T203000
DTSTAMP:20260425T221103
CREATED:20220307T164610Z
LAST-MODIFIED:20230321T160202Z
UID:19032-1694194200-1694205000@www.culbertsonhills.com
SUMMARY:Couples
DESCRIPTION:
URL:https://www.culbertsonhills.com/event/couples-3/
END:VEVENT
BEGIN:VEVENT
DTSTART;TZID=America/Toronto:20230829T170000
DTEND;TZID=America/Toronto:20230829T210000
DTSTAMP:20260425T221103
CREATED:20190220T142415Z
LAST-MODIFIED:20230314T160644Z
UID:5928-1693328400-1693342800@www.culbertsonhills.com
SUMMARY:Mens League 5 P.M.
DESCRIPTION:
URL:https://www.culbertsonhills.com/event/mens-league-34/
END:VEVENT
BEGIN:VEVENT
DTSTART;TZID=America/Toronto:20230825T173000
DTEND;TZID=America/Toronto:20230825T210000
DTSTAMP:20260425T221103
CREATED:20220307T164648Z
LAST-MODIFIED:20230321T155734Z
UID:19035-1692984600-1692997200@www.culbertsonhills.com
SUMMARY:Couples
DESCRIPTION:
URL:https://www.culbertsonhills.com/event/couples-4/
END:VEVENT
BEGIN:VEVENT
DTSTART;TZID=America/Toronto:20230822T170000
DTEND;TZID=America/Toronto:20230822T203000
DTSTAMP:20260425T221103
CREATED:20200226T202403Z
LAST-MODIFIED:20230314T160357Z
UID:11607-1692723600-1692736200@www.culbertsonhills.com
SUMMARY:Men’s League
DESCRIPTION:2023 Men’s League starts at 5:00 pm.
URL:https://www.culbertsonhills.com/event/mens-league-37/
END:VEVENT
BEGIN:VEVENT
DTSTART;TZID=America/Toronto:20230815T080000
DTEND;TZID=America/Toronto:20230815T203000
DTSTAMP:20260425T221103
CREATED:20200226T202614Z
LAST-MODIFIED:20230314T160233Z
UID:11613-1692086400-1692131400@www.culbertsonhills.com
SUMMARY:Men’s League
DESCRIPTION:2020 Men’s League starts at 5:00 pm.
URL:https://www.culbertsonhills.com/event/mens-league-38/
END:VEVENT
BEGIN:VEVENT
DTSTART;TZID=America/Toronto:20230808T170000
DTEND;TZID=America/Toronto:20230808T200000
DTSTAMP:20260425T221103
CREATED:20200228T141251Z
LAST-MODIFIED:20230314T160133Z
UID:11649-1691514000-1691524800@www.culbertsonhills.com
SUMMARY:Men’s League
DESCRIPTION:Starts at 5:00 pm.
URL:https://www.culbertsonhills.com/event/mens-league-39/
END:VEVENT
BEGIN:VEVENT
DTSTART;TZID=America/Toronto:20230804T173000
DTEND;TZID=America/Toronto:20230804T203000
DTSTAMP:20260425T221103
CREATED:20230321T155916Z
LAST-MODIFIED:20230321T160041Z
UID:21583-1691170200-1691181000@www.culbertsonhills.com
SUMMARY:Couples
DESCRIPTION:
URL:https://www.culbertsonhills.com/event/couples-7/
END:VEVENT
BEGIN:VEVENT
DTSTART;TZID=America/Toronto:20230730T090000
DTEND;TZID=America/Toronto:20230730T143000
DTSTAMP:20260425T221103
CREATED:20220627T161436Z
LAST-MODIFIED:20230312T160455Z
UID:20624-1690707600-1690727400@www.culbertsonhills.com
SUMMARY:General McLane Football Team Golf Outing
DESCRIPTION:Support GM Football July 30 at 9:00 for a shotgun start with plenty of prizes\, food and beverages.  Call Coach Marshall McCormick for details.
URL:https://www.culbertsonhills.com/event/general-mclane-football-team-golf-outing/
END:VEVENT
BEGIN:VEVENT
DTSTART;TZID=America/Toronto:20230729T123000
DTEND;TZID=America/Toronto:20230729T170000
DTSTAMP:20260425T221103
CREATED:20220307T194700Z
LAST-MODIFIED:20230216T114352Z
UID:19098-1690633800-1690650000@www.culbertsonhills.com
SUMMARY:Prep Class of "71
DESCRIPTION:
URL:https://www.culbertsonhills.com/event/prep-class-of-71/
END:VEVENT
BEGIN:VEVENT
DTSTART;TZID=America/Toronto:20230725T080000
DTEND;TZID=America/Toronto:20230725T170000
DTSTAMP:20260425T221103
CREATED:20200228T141659Z
LAST-MODIFIED:20230314T155233Z
UID:11661-1690272000-1690304400@www.culbertsonhills.com
SUMMARY:Mens League
DESCRIPTION:Starts at 5:00 pm.
URL:https://www.culbertsonhills.com/event/mens-league-41/
END:VEVENT
BEGIN:VEVENT
DTSTART;TZID=America/Toronto:20230721T173000
DTEND;TZID=America/Toronto:20230721T210000
DTSTAMP:20260425T221103
CREATED:20220307T164721Z
LAST-MODIFIED:20230327T195804Z
UID:19038-1689960600-1689973200@www.culbertsonhills.com
SUMMARY:Couples
DESCRIPTION:
URL:https://www.culbertsonhills.com/event/couples-5/
END:VEVENT
BEGIN:VEVENT
DTSTART;TZID=America/Toronto:20230718T170000
DTEND;TZID=America/Toronto:20230718T200000
DTSTAMP:20260425T221103
CREATED:20200228T142029Z
LAST-MODIFIED:20230314T155121Z
UID:11673-1689699600-1689710400@www.culbertsonhills.com
SUMMARY:Men’s League
DESCRIPTION:Starts at 5:00 pm.
URL:https://www.culbertsonhills.com/event/mens-league-43/
END:VEVENT
BEGIN:VEVENT
DTSTART;TZID=America/Toronto:20230714T173000
DTEND;TZID=America/Toronto:20230714T210000
DTSTAMP:20260425T221103
CREATED:20230314T164313Z
LAST-MODIFIED:20230314T164853Z
UID:19015-1689355800-1689368400@www.culbertsonhills.com
SUMMARY:Couples
DESCRIPTION:
URL:https://www.culbertsonhills.com/event/couples/
END:VEVENT
BEGIN:VEVENT
DTSTART;TZID=America/Toronto:20230711T170000
DTEND;TZID=America/Toronto:20230711T200000
DTSTAMP:20260425T221103
CREATED:20200228T141813Z
LAST-MODIFIED:20230314T154857Z
UID:11667-1689094800-1689105600@www.culbertsonhills.com
SUMMARY:Mens League
DESCRIPTION:Starts at 5:00 pm.
URL:https://www.culbertsonhills.com/event/mens-league-42/
END:VEVENT
BEGIN:VEVENT
DTSTART;TZID=America/Toronto:20230630T170000
DTEND;TZID=America/Toronto:20230630T210000
DTSTAMP:20260425T221103
CREATED:20220307T164753Z
LAST-MODIFIED:20230314T163623Z
UID:19041-1688144400-1688158800@www.culbertsonhills.com
SUMMARY:Couples
DESCRIPTION:
URL:https://www.culbertsonhills.com/event/couples-6/
END:VEVENT
BEGIN:VEVENT
DTSTART;TZID=America/Toronto:20230627T170000
DTEND;TZID=America/Toronto:20230627T200000
DTSTAMP:20260425T221103
CREATED:20200228T142847Z
LAST-MODIFIED:20230314T154740Z
UID:11685-1687885200-1687896000@www.culbertsonhills.com
SUMMARY:Men’s League
DESCRIPTION:Starts at 5:00 pm.
URL:https://www.culbertsonhills.com/event/mens-league-45/
END:VEVENT
BEGIN:VEVENT
DTSTART;TZID=America/Toronto:20230617T083000
DTEND;TZID=America/Toronto:20230617T133000
DTSTAMP:20260425T221103
CREATED:20230314T211509Z
LAST-MODIFIED:20230314T211509Z
UID:21566-1686990600-1687008600@www.culbertsonhills.com
SUMMARY:Girard Football Boosters Golf Outing
DESCRIPTION:
URL:https://www.culbertsonhills.com/event/girard-football-boosters-golf-outing/
END:VEVENT
BEGIN:VEVENT
DTSTART;TZID=America/Toronto:20230613T170000
DTEND;TZID=America/Toronto:20230613T200000
DTSTAMP:20260425T221103
CREATED:20200228T143211Z
LAST-MODIFIED:20230314T152205Z
UID:11693-1686675600-1686686400@www.culbertsonhills.com
SUMMARY:Men’s League
DESCRIPTION:Starts at 5:00 pm.
URL:https://www.culbertsonhills.com/event/mens-league-47/
END:VEVENT
BEGIN:VEVENT
DTSTART;TZID=America/Toronto:20230609T170000
DTEND;TZID=America/Toronto:20230609T210000
DTSTAMP:20260425T221103
CREATED:20220307T163726Z
LAST-MODIFIED:20230314T163501Z
UID:19014-1686330000-1686344400@www.culbertsonhills.com
SUMMARY:Culbertson Couples
DESCRIPTION:Newly formed league limited to members and first-come\, first paid golfers for an 8 week league.  Call Bob at 814-450-9338 or Tony Cicero 814-460-9783.
URL:https://www.culbertsonhills.com/event/culbertson-couples/
END:VEVENT
BEGIN:VEVENT
DTSTART;TZID=America/Toronto:20230606T170000
DTEND;TZID=America/Toronto:20230606T170000
DTSTAMP:20260425T221103
CREATED:20180526T001226Z
LAST-MODIFIED:20230314T151903Z
UID:5018-1686070800-1686070800@www.culbertsonhills.com
SUMMARY:Men's League
DESCRIPTION:
URL:https://www.culbertsonhills.com/event/mens-league-14/
END:VEVENT
BEGIN:VEVENT
DTSTART;TZID=America/Toronto:20230530T170000
DTEND;TZID=America/Toronto:20230530T200000
DTSTAMP:20260425T221103
CREATED:20200228T143417Z
LAST-MODIFIED:20230314T151646Z
UID:11707-1685466000-1685476800@www.culbertsonhills.com
SUMMARY:Mens League
DESCRIPTION:Starts at 5:00 pm.
URL:https://www.culbertsonhills.com/event/mens-league-49/
END:VEVENT
BEGIN:VEVENT
DTSTART;TZID=America/Toronto:20230523T170000
DTEND;TZID=America/Toronto:20230523T200000
DTSTAMP:20260425T221103
CREATED:20200228T144226Z
LAST-MODIFIED:20230314T151453Z
UID:11729-1684861200-1684872000@www.culbertsonhills.com
SUMMARY:Men’s League
DESCRIPTION:Starts at 5:00 pm.
URL:https://www.culbertsonhills.com/event/mens-league-53/
END:VEVENT
BEGIN:VEVENT
DTSTART;TZID=America/Toronto:20230516T170000
DTEND;TZID=America/Toronto:20230516T170000
DTSTAMP:20260425T221103
CREATED:20200228T143304Z
LAST-MODIFIED:20230314T151029Z
UID:11701-1684256400-1684256400@www.culbertsonhills.com
SUMMARY:Mens League
DESCRIPTION:Starts at 5:00 pm.
URL:https://www.culbertsonhills.com/event/mens-league-48/
END:VEVENT
BEGIN:VEVENT
DTSTART;TZID=America/Toronto:20230509T170000
DTEND;TZID=America/Toronto:20230509T200000
DTSTAMP:20260425T221103
CREATED:20200228T144054Z
LAST-MODIFIED:20230314T150309Z
UID:11723-1683651600-1683662400@www.culbertsonhills.com
SUMMARY:Men’s League
DESCRIPTION:Starts at 5:00 pm.
URL:https://www.culbertsonhills.com/event/mens-league-52/
END:VEVENT
BEGIN:VEVENT
DTSTART;TZID=America/Toronto:20230502T170000
DTEND;TZID=America/Toronto:20230502T200000
DTSTAMP:20260425T221103
CREATED:20200228T144426Z
LAST-MODIFIED:20230314T145800Z
UID:11735-1683046800-1683057600@www.culbertsonhills.com
SUMMARY:Mens League
DESCRIPTION:Starts at 5:00 pm.
URL:https://www.culbertsonhills.com/event/mens-league-54/
END:VEVENT
BEGIN:VEVENT
DTSTART;TZID=America/Toronto:20230429T120000
DTEND;TZID=America/Toronto:20230429T170000
DTSTAMP:20260425T221103
CREATED:20200220T160316Z
LAST-MODIFIED:20230312T224346Z
UID:11315-1682769600-1682787600@www.culbertsonhills.com
SUMMARY:Edinboro Barstool Open sponsored by Miller Lite
DESCRIPTION:The Edinboro Barstool Open is April 29th with registration beginning at noon.  All proceeds of the event benefit the Edinboro A-H Club who has been providing hats\, boots\, gloves and other essentials to the children of the General McLane School District since 1986.
URL:https://www.culbertsonhills.com/event/edinboro-barstool-open-sponsored-by-miller-lite/
LOCATION:Culbertson Hills Golf Resort
END:VEVENT
BEGIN:VEVENT
DTSTART;TZID=America/Toronto:20220721T120000
DTEND;TZID=America/Toronto:20220721T173000
DTSTAMP:20260425T221103
CREATED:20200220T183530Z
LAST-MODIFIED:20220307T110005Z
UID:11429-1658404800-1658424600@www.culbertsonhills.com
SUMMARY:AFS Golf Outing
DESCRIPTION:Annual American Foundrymen Society Golf Tournament  Tee times available before 9:00 a.m. and after 5:30 p.m.  Call Pro Shop at 734-3114 for details
URL:https://www.culbertsonhills.com/event/afs-golf-outing/
LOCATION:Culbertson Hills Golf Resort
END:VEVENT
BEGIN:VEVENT
DTSTART;TZID=America/Toronto:20220617T130000
DTEND;TZID=America/Toronto:20220617T180000
DTSTAMP:20260425T221103
CREATED:20190307T155730Z
LAST-MODIFIED:20220307T192907Z
UID:6122-1655470800-1655488800@www.culbertsonhills.com
SUMMARY:Eric Danowski Transplant Hope Golf Outing-
DESCRIPTION:Tee times available before 9:00 a.m. and after 6:00 p.m.
URL:https://www.culbertsonhills.com/event/eric-danowski-transplant-foundation-golf-outing/
END:VEVENT
END:VCALENDAR