BEGIN:VCALENDAR
VERSION:2.0
PRODID:-//Culbertson Hills - ECPv6.15.20//NONSGML v1.0//EN
CALSCALE:GREGORIAN
METHOD:PUBLISH
X-ORIGINAL-URL:https://www.culbertsonhills.com
X-WR-CALDESC:Events for Culbertson Hills
REFRESH-INTERVAL;VALUE=DURATION:PT1H
X-Robots-Tag:noindex
X-PUBLISHED-TTL:PT1H
BEGIN:VTIMEZONE
TZID:America/Toronto
BEGIN:DAYLIGHT
TZOFFSETFROM:-0500
TZOFFSETTO:-0400
TZNAME:EDT
DTSTART:20250309T070000
END:DAYLIGHT
BEGIN:STANDARD
TZOFFSETFROM:-0400
TZOFFSETTO:-0500
TZNAME:EST
DTSTART:20251102T060000
END:STANDARD
BEGIN:DAYLIGHT
TZOFFSETFROM:-0500
TZOFFSETTO:-0400
TZNAME:EDT
DTSTART:20260308T070000
END:DAYLIGHT
BEGIN:STANDARD
TZOFFSETFROM:-0400
TZOFFSETTO:-0500
TZNAME:EST
DTSTART:20261101T060000
END:STANDARD
BEGIN:DAYLIGHT
TZOFFSETFROM:-0500
TZOFFSETTO:-0400
TZNAME:EDT
DTSTART:20270314T070000
END:DAYLIGHT
BEGIN:STANDARD
TZOFFSETFROM:-0400
TZOFFSETTO:-0500
TZNAME:EST
DTSTART:20271107T060000
END:STANDARD
END:VTIMEZONE
BEGIN:VEVENT
DTSTART;TZID=America/Toronto:20260704T080000
DTEND;TZID=America/Toronto:20260704T140000
DTSTAMP:20260425T195402
CREATED:20200220T182830Z
LAST-MODIFIED:20260125T174236Z
UID:11423-1783152000-1783173600@www.culbertsonhills.com
SUMMARY:4th of July Red\, White\, and Blue Tournament
DESCRIPTION:8AM Shotgun Start \nOpen to all players with a valid handicap\, bring a foursome or sign up individually. \nCost:  \nMembers With Cart Pass: $20 \nMembers Without Cart Pass: $37 \nNon-Members:$60 \nFormat: \n\nYou choose six holes to play from the red tees\, six holes from the white tees\, and six holes from the blue tees\nTake 60% handicap\nBest two balls of the foursome determine the winner\n\nThis is one of our most popular events of the summer!
URL:https://www.culbertsonhills.com/event/4th-of-july-red-white-and-blue/
LOCATION:Culbertson Hills Golf Resort
END:VEVENT
BEGIN:VEVENT
DTSTART;TZID=America/Toronto:20260710T080000
DTEND;TZID=America/Toronto:20260711T170000
DTSTAMP:20260425T195402
CREATED:20260201T181449Z
LAST-MODIFIED:20260201T181712Z
UID:24414-1783670400-1783789200@www.culbertsonhills.com
SUMMARY:Culbertson Hills Member / Guest
DESCRIPTION:
URL:https://www.culbertsonhills.com/event/culbertson-hills-member-guest/
END:VEVENT
BEGIN:VEVENT
DTSTART;TZID=America/Toronto:20260718T080000
DTEND;TZID=America/Toronto:20260718T133000
DTSTAMP:20260425T195402
CREATED:20180618T122406Z
LAST-MODIFIED:20260126T162844Z
UID:5194-1784361600-1784381400@www.culbertsonhills.com
SUMMARY:Theta Chi Golf Outing Tee Times available before 9:30 & after 6pm
DESCRIPTION:Starts at 8:00 AM….tee times available after 1:00 P.m.
URL:https://www.culbertsonhills.com/event/golf-outing-6/
END:VEVENT
BEGIN:VEVENT
DTSTART;TZID=America/Toronto:20260724T120000
DTEND;TZID=America/Toronto:20260724T120000
DTSTAMP:20260425T195402
CREATED:20210517T203310Z
LAST-MODIFIED:20260126T163055Z
UID:16086-1784894400-1784894400@www.culbertsonhills.com
SUMMARY:Community Resources for Independence Invitational
DESCRIPTION:12:00PM Shotgun Start \nTee times will be available in the morning before the event.
URL:https://www.culbertsonhills.com/event/community-resources-invitational/
END:VEVENT
END:VCALENDAR